BEGIN:VCALENDAR
VERSION:2.0
PRODID:-//WOONGSAN - ECPv4.9.7//NONSGML v1.0//EN
CALSCALE:GREGORIAN
METHOD:PUBLISH
X-WR-CALNAME:WOONGSAN
X-ORIGINAL-URL:https://woongsanjazz.com
X-WR-CALDESC:Events for WOONGSAN
BEGIN:VTIMEZONE
TZID:"Asia/Seoul"
BEGIN:STANDARD
TZOFFSETFROM:+0900
TZOFFSETTO:+0900
TZNAME:KST
DTSTART:20210101T000000
END:STANDARD
END:VTIMEZONE
BEGIN:VEVENT
DTSTART;TZID="Asia/Seoul":20210429T193000
DTEND;TZID="Asia/Seoul":20210429T210000
DTSTAMP:20260425T141117
CREATED:20210424T014349Z
LAST-MODIFIED:20210424T014349Z
UID:1276-1619724600-1619730000@woongsanjazz.com
SUMMARY:2021 '세계 재즈의날'기념 전야 콘서트
DESCRIPTION:2021년 세계 재즈의 날 기념\n전야 콘서트\n4월 29일(목) 저녁7:30\n– 네이버 TV 생중계 – \n네이버TV\nhttp://naver.me/xpPvkt5w \n
URL:https://woongsanjazz.com/event/2021-%ec%84%b8%ea%b3%84-%ec%9e%ac%ec%a6%88%ec%9d%98%eb%82%a0%ea%b8%b0%eb%85%90-%ec%a0%84%ec%95%bc-%ec%bd%98%ec%84%9c%ed%8a%b8/
END:VEVENT
END:VCALENDAR